BEGIN:VCALENDAR
VERSION:2.0
PRODID:-//ChamberMaster//Event Calendar 2.0//EN
METHOD:PUBLISH
X-PUBLISHED-TTL:P3D
REFRESH-INTERVAL:P3D
CALSCALE:GREGORIAN
BEGIN:VEVENT
DTSTART:20210810T200000Z
DTEND:20210810T210000Z
X-MICROSOFT-CDO-ALLDAYEVENT:FALSE
SUMMARY:Game Day at the Senior Center
DESCRIPTION:GAME DAY\n\nAT THE \n\nTOWN OF PARKER\n\nCOMMUNITY SENIOR CENTER
X-ALT-DESC;FMTTYPE=text/html:<div style="text-align: center\;">GAME DAY<br />\nAT THE&nbsp\;<br />\nTOWN OF PARKER<br />\nCOMMUNITY SENIOR CENTER&nbsp\;</div>\n
LOCATION:TOWN OF PARKER COMMUNITY SENIOR CENTER 1115 12TH STREET PARKER\, AZ
UID:e.2234.6347
SEQUENCE:3
DTSTAMP:20260424T115909Z
URL:https://business.parkeraz.org/events/details/game-day-at-the-senior-center-08-10-2021-6347
END:VEVENT

END:VCALENDAR
