BEGIN:VCALENDAR
VERSION:2.0
PRODID:-//ChamberMaster//Event Calendar 2.0//EN
METHOD:PUBLISH
X-PUBLISHED-TTL:P3D
REFRESH-INTERVAL:P3D
CALSCALE:GREGORIAN
BEGIN:VEVENT
DTSTART:20211030T000000Z
DTEND:20211030T020000Z
X-MICROSOFT-CDO-ALLDAYEVENT:FALSE
SUMMARY:Halloween Candy Bag Giveaway
DESCRIPTION:C.R.I.T.\n\nPRESENTS \n\nHALLOWEEN CANDY BAG\n\nGIVEAWAY
X-ALT-DESC;FMTTYPE=text/html:<div style="text-align: center\;">C.R.I.T.<br />\nPRESENTS&nbsp\;<br />\nHALLOWEEN CANDY BAG<br />\nGIVEAWAY</div>\n
LOCATION:MANATABA PARK (4-CORNERS) PARKER\, AZ
UID:e.2234.6674
SEQUENCE:3
DTSTAMP:20260424T130200Z
URL:https://business.parkeraz.org/events/details/halloween-candy-bag-giveaway-6674
END:VEVENT

END:VCALENDAR
