BEGIN:VCALENDAR
VERSION:2.0
PRODID:-//ChamberMaster//Event Calendar 2.0//EN
METHOD:PUBLISH
X-PUBLISHED-TTL:P3D
REFRESH-INTERVAL:P3D
CALSCALE:GREGORIAN
BEGIN:VEVENT
DTSTART:20211022T003000Z
DTEND:20211022T013000Z
X-MICROSOFT-CDO-ALLDAYEVENT:FALSE
SUMMARY:Harry Potter Book Club (All Ages) @ The Library
DESCRIPTION:HARRY POTTER \n\nBOOK CLUB AT\n\nTHE PARKER PUBLIC LIBRARY\n\n(FOR ALL AGES)
X-ALT-DESC;FMTTYPE=text/html:<div style="text-align: center\;">HARRY POTTER&nbsp\;<br />\nBOOK CLUB AT<br />\nTHE PARKER PUBLIC LIBRARY<br />\n(FOR ALL AGES)</div>\n
LOCATION:PARKER PUBLIC LIBRARY 1001 NAVAJO AVE PARKER\, AZ
UID:e.2234.6617
SEQUENCE:3
DTSTAMP:20260424T130456Z
URL:https://business.parkeraz.org/events/details/harry-potter-book-club-all-ages-the-library-10-21-2021-6617
END:VEVENT

END:VCALENDAR
