BEGIN:VCALENDAR
VERSION:2.0
PRODID:-//ChamberMaster//Event Calendar 2.0//EN
METHOD:PUBLISH
X-PUBLISHED-TTL:P3D
REFRESH-INTERVAL:P3D
CALSCALE:GREGORIAN
BEGIN:VEVENT
DTSTART;VALUE=DATE:20210925
DTEND;VALUE=DATE:20210926
TRANSP:TRANSPARENT
X-MICROSOFT-CDO-ALLDAYEVENT:TRUE
SUMMARY:Hot Boats & Hot Rods @ Pirates Den Resort
DESCRIPTION:PIRATES DEN RESORT \n\nPRESENTS\n\nHOT BOATS & HOT RODS \n\nON THE PARKER STRIP
X-ALT-DESC;FMTTYPE=text/html:<div style="text-align: center\;"><span style="font-family:comic sans ms\;"><span style="font-size:22px\;"><strong><span style="color:#FF0000\;"><span style="background-color:#000000\;">PIRATES DEN RESORT</span></span></strong>&nbsp\;</span></span><br />\n<span style="font-size:18px\;"><strong>PRESENTS</strong></span><br />\n<span style="font-family:times new roman\;"><span style="font-size:18px\;"><span style="color:#000000\;"><span style="font-size:26px\;"><strong><span style="background-color:#FF0000\;">HOT BOATS &amp\; HOT RODS&nbsp\;</span></strong></span><br />\n<span style="font-size:20px\;">ON THE PARKER STRIP</span></span></span></span><br />\n&nbsp\;</div>\n
LOCATION:PIRATES DEN RESORT 7350 RIVERSIDE DRIVE PARKER\, AZ
UID:e.2234.6640
SEQUENCE:3
DTSTAMP:20260424T131921Z
URL:https://business.parkeraz.org/events/details/hot-boats-hot-rods-pirates-den-resort-6640
END:VEVENT

END:VCALENDAR
