BEGIN:VCALENDAR
VERSION:2.0
PRODID:-//ChamberMaster//Event Calendar 2.0//EN
METHOD:PUBLISH
X-PUBLISHED-TTL:P3D
REFRESH-INTERVAL:P3D
CALSCALE:GREGORIAN
BEGIN:VEVENT
DTSTART:20210419T170000Z
DTEND:20210420T060000Z
X-MICROSOFT-CDO-ALLDAYEVENT:FALSE
SUMMARY:La Paz County Board of Supervisors Meeting
DESCRIPTION:
X-ALT-DESC;FMTTYPE=text/html:
LOCATION:
UID:e.2234.4132
SEQUENCE:3
DTSTAMP:20260424T051212Z
URL:https://business.parkeraz.org/events/details/la-paz-county-board-of-supervisors-meeting-4132
END:VEVENT

END:VCALENDAR
