BEGIN:VCALENDAR
VERSION:2.0
PRODID:-//ChamberMaster//Event Calendar 2.0//EN
METHOD:PUBLISH
X-PUBLISHED-TTL:P3D
REFRESH-INTERVAL:P3D
CALSCALE:GREGORIAN
BEGIN:VEVENT
DTSTART:20200109T160000Z
DTEND:20200109T220000Z
X-MICROSOFT-CDO-ALLDAYEVENT:FALSE
SUMMARY:La Paz Health Education & Prevention Program Open House
DESCRIPTION:OPEN HOUSE \n\nAT \n\nLA PAZ COUNTY HEALTH EDUCATION \n\nAND PREVENTION PROGRAM
X-ALT-DESC;FMTTYPE=text/html:<div style="text-align: center\;">OPEN HOUSE&nbsp\;<br />\nAT&nbsp\;<br />\nLA PAZ COUNTY HEALTH EDUCATION&nbsp\;<br />\nAND PREVENTION PROGRAM</div>\n
LOCATION:1016 HOPI AVE PARKER\, AZ
UID:e.2234.3883
SEQUENCE:3
DTSTAMP:20260425T023633Z
URL:https://business.parkeraz.org/events/details/la-paz-health-education-prevention-program-open-house-3883
END:VEVENT

END:VCALENDAR
