BEGIN:VCALENDAR
VERSION:2.0
PRODID:-//ChamberMaster//Event Calendar 2.0//EN
METHOD:PUBLISH
X-PUBLISHED-TTL:P3D
REFRESH-INTERVAL:P3D
CALSCALE:GREGORIAN
BEGIN:VEVENT
DTSTART:20210707T170000Z
DTEND:20210708T213000Z
X-MICROSOFT-CDO-ALLDAYEVENT:FALSE
SUMMARY:Making a Difference
DESCRIPTION:The Town of Parker Community Health Outreach program \n\nMaking a Difference\n\n\n\nRegister by contacting Miranda or Amanda 928-669-1062 x 102 or 104
X-ALT-DESC;FMTTYPE=text/html:The Town of Parker Community Health Outreach program&nbsp\;<br />\nMaking a Difference<br />\n<br />\nRegister by contacting Miranda or Amanda 928-669-1062 x 102 or 104<br />\n&nbsp\;
LOCATION:An evidence-based\, abstinence approach to teen pregnancy and HIV/STD prevention. The objective of the program is to empower young adolescents to change their behavior in ways that will reduce their risk of pregnancy\, HIV or other STD infections. This curriculum emphasizes that young adolescents should postpone sexual activity and that practicing abstinence is the only way to eliminate the risk for pregnancy and STDs.
UID:e.2234.4643
SEQUENCE:3
DTSTAMP:20260424T102217Z
URL:https://business.parkeraz.org/events/details/making-a-difference-4643
END:VEVENT

END:VCALENDAR
