BEGIN:VCALENDAR
VERSION:2.0
PRODID:-//ChamberMaster//Event Calendar 2.0//EN
METHOD:PUBLISH
X-PUBLISHED-TTL:P3D
REFRESH-INTERVAL:P3D
CALSCALE:GREGORIAN
BEGIN:VEVENT
DTSTART:20210714T003000Z
DTEND:20210714T020000Z
X-MICROSOFT-CDO-ALLDAYEVENT:FALSE
SUMMARY:Messy Play
DESCRIPTION:Arizona's Children Association Parents as Teachers is hosting a Group Connection Messy Play.  Come join us for all kinds of ooey\, gooey messy fun! Dinner will be provided.  All families welcome.
X-ALT-DESC;FMTTYPE=text/html:Arizona&#39\;s Children Association Parents as Teachers is hosting a Group Connection Messy Play.&nbsp\; Come join us for all kinds of ooey\, gooey messy fun! Dinner will be provided.&nbsp\; All families welcome.&nbsp\;
LOCATION:Players 9th Street Youth Center at 1309 9th Street Parker\, AZ
UID:e.2234.4624
SEQUENCE:3
DTSTAMP:20260424T102405Z
URL:https://business.parkeraz.org/events/details/messy-play-4624
END:VEVENT

END:VCALENDAR
