BEGIN:VCALENDAR
VERSION:2.0
PRODID:-//ChamberMaster//Event Calendar 2.0//EN
METHOD:PUBLISH
X-PUBLISHED-TTL:P3D
REFRESH-INTERVAL:P3D
CALSCALE:GREGORIAN
BEGIN:VEVENT
DTSTART:20200711T020000Z
DTEND:20200710T070000Z
X-MICROSOFT-CDO-ALLDAYEVENT:FALSE
SUMMARY:Moonshine Bandits at Sundance Saloon
DESCRIPTION:
X-ALT-DESC;FMTTYPE=text/html:
LOCATION:
UID:e.2234.4112
SEQUENCE:3
DTSTAMP:20260424T170642Z
URL:https://business.parkeraz.org/events/details/moonshine-bandits-at-sundance-saloon-07-10-2020-4112
END:VEVENT

END:VCALENDAR
