BEGIN:VCALENDAR
VERSION:2.0
PRODID:-//ChamberMaster//Event Calendar 2.0//EN
METHOD:PUBLISH
X-PUBLISHED-TTL:P3D
REFRESH-INTERVAL:P3D
CALSCALE:GREGORIAN
BEGIN:VEVENT
DTSTART:20220523T173000Z
DTEND:20220523T190000Z
X-MICROSOFT-CDO-ALLDAYEVENT:FALSE
SUMMARY:Music Monday
DESCRIPTION:Music Monday at the Parker Community Senior Center
X-ALT-DESC;FMTTYPE=text/html:Music Monday at the Parker Community Senior Center
LOCATION:Parker Community Senior Center 1115 W 12th St\, Parker\, AZ 85344
UID:e.2234.7310
SEQUENCE:3
DTSTAMP:20260422T140859Z
URL:https://business.parkeraz.org/events/details/music-monday-05-23-2022-7310
END:VEVENT

END:VCALENDAR
