BEGIN:VCALENDAR
VERSION:2.0
PRODID:-//ChamberMaster//Event Calendar 2.0//EN
METHOD:PUBLISH
X-PUBLISHED-TTL:P3D
REFRESH-INTERVAL:P3D
CALSCALE:GREGORIAN
BEGIN:VEVENT
DTSTART:20200723T150000Z
DTEND:20200723T170000Z
X-MICROSOFT-CDO-ALLDAYEVENT:FALSE
SUMMARY:New Teacher Orientation
DESCRIPTION:Parker Unified School District to welcome new staff. Held for new teachers and school district employees only.
X-ALT-DESC;FMTTYPE=text/html:Parker Unified School District to welcome new staff. Held for new teachers and school district employees only.&nbsp\; &nbsp\;&nbsp\;&nbsp\;&nbsp\;
LOCATION:Private
UID:e.2234.4111
SEQUENCE:3
DTSTAMP:20260424T170453Z
URL:https://business.parkeraz.org/events/details/new-teacher-orientation-4111
END:VEVENT

END:VCALENDAR
