BEGIN:VCALENDAR
VERSION:2.0
PRODID:-//ChamberMaster//Event Calendar 2.0//EN
METHOD:PUBLISH
X-PUBLISHED-TTL:P3D
REFRESH-INTERVAL:P3D
CALSCALE:GREGORIAN
BEGIN:VEVENT
DTSTART:20231029T210000Z
DTEND:20231030T000000Z
X-MICROSOFT-CDO-ALLDAYEVENT:FALSE
SUMMARY:PAACE Family Fun Day
DESCRIPTION:This event will take place at Pop Harvey park. it is from 2-5
X-ALT-DESC;FMTTYPE=text/html:This event will take place at Pop Harvey park. it is from 2-5
LOCATION:
UID:e.2234.10942
SEQUENCE:3
DTSTAMP:20260424T160212Z
URL:https://business.parkeraz.org/events/details/paace-family-fun-day-10942
END:VEVENT

END:VCALENDAR
