BEGIN:VCALENDAR
VERSION:2.0
PRODID:-//ChamberMaster//Event Calendar 2.0//EN
METHOD:PUBLISH
X-PUBLISHED-TTL:P3D
REFRESH-INTERVAL:P3D
CALSCALE:GREGORIAN
BEGIN:VEVENT
DTSTART;VALUE=DATE:20231028
DTEND;VALUE=DATE:20231029
TRANSP:TRANSPARENT
X-MICROSOFT-CDO-ALLDAYEVENT:TRUE
SUMMARY:Parker Enduro
DESCRIPTION:October 28 - The Blue Water Resort & Casino & Reliable Diamond Tool Parker Enduro Presented by Nick Rose Insurance\, Nordic\, Hallett\, Integral Products\, Advanced Contracting Group\, Frederick & Son's Heating & Air\, Parker Oil
X-ALT-DESC;FMTTYPE=text/html:<span style="font-family:helvetica\,sans-serif\;"><span style="font-size:12.0pt\;">October 28 - The Blue Water Resort &amp\; Casino &amp\; Reliable Diamond Tool Parker Enduro Presented by Nick Rose Insurance\, Nordic\, Hallett\, Integral Products\, Advanced Contracting Group\, Frederick &amp\; Son&#39\;s Heating &amp\; Air\, Parker Oil</span></span>
LOCATION:
UID:e.2234.10259
SEQUENCE:3
DTSTAMP:20260424T160013Z
URL:https://business.parkeraz.org/events/details/parker-enduro-10259
END:VEVENT

END:VCALENDAR
