BEGIN:VCALENDAR
VERSION:2.0
PRODID:-//ChamberMaster//Event Calendar 2.0//EN
METHOD:PUBLISH
X-PUBLISHED-TTL:P3D
REFRESH-INTERVAL:P3D
CALSCALE:GREGORIAN
BEGIN:VEVENT
DTSTART;VALUE=DATE:20201031
DTEND;VALUE=DATE:20201101
TRANSP:TRANSPARENT
X-MICROSOFT-CDO-ALLDAYEVENT:TRUE
SUMMARY:Parker Enduro Race
DESCRIPTION:PARKER ENDURO\n\nRACE
X-ALT-DESC;FMTTYPE=text/html:<div style="text-align: center\;">PARKER ENDURO<br />\nRACE</div>\n
LOCATION:PATRIA FLATS PARK PARKER\, AZ
UID:e.2234.4140
SEQUENCE:3
DTSTAMP:20260424T130105Z
URL:https://business.parkeraz.org/events/details/parker-enduro-race-4140
END:VEVENT

END:VCALENDAR
