BEGIN:VCALENDAR
VERSION:2.0
PRODID:-//ChamberMaster//Event Calendar 2.0//EN
METHOD:PUBLISH
X-PUBLISHED-TTL:P3D
REFRESH-INTERVAL:P3D
CALSCALE:GREGORIAN
BEGIN:VEVENT
DTSTART:20210918T190000Z
DTEND:20210918T190000Z
X-MICROSOFT-CDO-ALLDAYEVENT:FALSE
SUMMARY:Parker Panthers Football @ P.H.S. Field
DESCRIPTION:PARKER PANTHERS YOUTH FOOTBALL LEAGUE\n\nPARKER PANTHERS vs Mean Machine/Salome\n\n3 - DIVISION *HOME* GAMES
X-ALT-DESC;FMTTYPE=text/html:<div style="text-align: center\;"><span style="color: rgb(51\, 51\, 51)\; font-family: sans-serif\, Arial\, Verdana\, &quot\;Trebuchet MS&quot\;\; font-size: 22px\; text-align: center\; background-color: rgb(255\, 255\, 255)\;">PARKER PANTHERS YOUTH FOOTBALL LEAGUE</span><br style="color: rgb(51\, 51\, 51)\; font-family: sans-serif\, Arial\, Verdana\, &quot\;Trebuchet MS&quot\;\; font-size: 22px\; text-align: center\; background-color: rgb(255\, 255\, 255)\;" />\n<strong style="color: rgb(51\, 51\, 51)\; font-family: sans-serif\, Arial\, Verdana\, &quot\;Trebuchet MS&quot\;\; font-size: 22px\; text-align: center\; background-color: rgb(255\, 255\, 255)\;">PARKER PANTHERS vs Mean Machine/Salome</strong><br style="color: rgb(51\, 51\, 51)\; font-family: sans-serif\, Arial\, Verdana\, &quot\;Trebuchet MS&quot\;\; font-size: 22px\; text-align: center\; background-color: rgb(255\, 255\, 255)\;" />\n<span style="color: rgb(51\, 51\, 51)\; font-family: sans-serif\, Arial\, Verdana\, &quot\;Trebuchet MS&quot\;\; font-size: 22px\; text-align: center\; background-color: rgb(255\, 255\, 255)\;">3 - DIVISION</span><strong style="color: rgb(51\, 51\, 51)\; font-family: sans-serif\, Arial\, Verdana\, &quot\;Trebuchet MS&quot\;\; font-size: 22px\; text-align: center\; background-color: rgb(255\, 255\, 255)\;">&nbsp\;*HOME*</strong><span style="color: rgb(51\, 51\, 51)\; font-family: sans-serif\, Arial\, Verdana\, &quot\;Trebuchet MS&quot\;\; font-size: 22px\; text-align: center\; background-color: rgb(255\, 255\, 255)\;">&nbsp\;GAMES</span></div>\n
LOCATION:PARKER HIGH SCHOOL FOOTBALL FIELD PARKER\, AZ
UID:e.2234.6654
SEQUENCE:3
DTSTAMP:20260424T131826Z
URL:https://business.parkeraz.org/events/details/parker-panthers-football-p-h-s-field-6654
END:VEVENT

END:VCALENDAR
