BEGIN:VCALENDAR
VERSION:2.0
PRODID:-//ChamberMaster//Event Calendar 2.0//EN
METHOD:PUBLISH
X-PUBLISHED-TTL:P3D
REFRESH-INTERVAL:P3D
CALSCALE:GREGORIAN
BEGIN:VEVENT
DTSTART:20211009T160000Z
DTEND:20211009T220000Z
X-MICROSOFT-CDO-ALLDAYEVENT:FALSE
SUMMARY:Parker Panthers Football @ P.H.S. Field
DESCRIPTION:PARKER PANTHERS YOUTH FOOTBALL LEAGUE\n\nPARKER PANTHERS vs Wickenburg\n\n3 - DIVISION *HOME* GAMES
X-ALT-DESC;FMTTYPE=text/html:<div style="text-align: center\;"><span background-color:="" font-size:="" style="color: rgb(51\, 51\, 51)\; font-family: sans-serif\, Arial\, Verdana\, " text-align:="" trebuchet="">PARKER PANTHERS YOUTH FOOTBALL LEAGUE</span><br background-color:="" font-size:="" style="color: rgb(51\, 51\, 51)\; font-family: sans-serif\, Arial\, Verdana\, " text-align:="" trebuchet="" />\n<strong background-color:="" font-size:="" style="color: rgb(51\, 51\, 51)\; font-family: sans-serif\, Arial\, Verdana\, " text-align:="" trebuchet="">PARKER PANTHERS vs Wickenburg</strong><br background-color:="" font-size:="" style="color: rgb(51\, 51\, 51)\; font-family: sans-serif\, Arial\, Verdana\, " text-align:="" trebuchet="" />\n<span background-color:="" font-size:="" style="color: rgb(51\, 51\, 51)\; font-family: sans-serif\, Arial\, Verdana\, " text-align:="" trebuchet="">3 - DIVISION</span><strong background-color:="" font-size:="" style="color: rgb(51\, 51\, 51)\; font-family: sans-serif\, Arial\, Verdana\, " text-align:="" trebuchet="">&nbsp\;*HOME*</strong><span background-color:="" font-size:="" style="color: rgb(51\, 51\, 51)\; font-family: sans-serif\, Arial\, Verdana\, " text-align:="" trebuchet="">&nbsp\;GAMES</span></div>\n
LOCATION:PARKER HIGH SCHOOL FOOTBALL FIELD PARKER\, AZ
UID:e.2234.6664
SEQUENCE:3
DTSTAMP:20260424T130450Z
URL:https://business.parkeraz.org/events/details/parker-panthers-football-p-h-s-field-6664
END:VEVENT

END:VCALENDAR
