BEGIN:VCALENDAR
VERSION:2.0
PRODID:-//ChamberMaster//Event Calendar 2.0//EN
METHOD:PUBLISH
X-PUBLISHED-TTL:P3D
REFRESH-INTERVAL:P3D
CALSCALE:GREGORIAN
BEGIN:VEVENT
DTSTART:20200215T140000Z
DTEND:20200215T190000Z
X-MICROSOFT-CDO-ALLDAYEVENT:FALSE
SUMMARY:Parker Rotary Annual Buckskin Mountain Desert Dash
DESCRIPTION:Parker Rotary\n\nAnnual Buckskin Mountain Desert Dash\n\nFitness walk\, run or bike to Nellie E. Saloon (Desert Bar)\n\nClick here for registration form
X-ALT-DESC;FMTTYPE=text/html:<div style="text-align: center\;"><span style="font-size:18px\;">Parker Rotary<br />\nAnnual Buckskin Mountain Desert Dash<br />\nFitness walk\, run or bike to Nellie E. Saloon (Desert Bar)</span><br />\n<a href="https://chambermaster.blob.core.windows.net/userfiles/UserFiles/chambers/2234/File/2020desertdash.pdf">Click here for registration form</a></div>\n
LOCATION:Cienega Springs Road Parker\, AZ
UID:e.2234.3309
SEQUENCE:3
DTSTAMP:20260425T000404Z
URL:https://business.parkeraz.org/events/details/parker-rotary-annual-buckskin-mountain-desert-dash-3309
END:VEVENT

END:VCALENDAR
