BEGIN:VCALENDAR
VERSION:2.0
PRODID:-//ChamberMaster//Event Calendar 2.0//EN
METHOD:PUBLISH
X-PUBLISHED-TTL:P3D
REFRESH-INTERVAL:P3D
CALSCALE:GREGORIAN
BEGIN:VEVENT
DTSTART:20260424T150000Z
DTEND:20260424T190000Z
X-MICROSOFT-CDO-ALLDAYEVENT:FALSE
SUMMARY:PRESCRIPTION DRUG TAKE BACK EVENT
DESCRIPTION:Join PAACE & LA PAZ REGIONAL HOSPITAL at their prescription drug take-back event.
X-ALT-DESC;FMTTYPE=text/html:Join PAACE &amp\; LA PAZ REGIONAL HOSPITAL at their prescription drug take-back event.&nbsp\;
LOCATION:401 Riverside Drive\, Parker\, AZ Urgent Care/ Pharmacy
UID:e.2234.13520
SEQUENCE:3
DTSTAMP:20260424T015222Z
URL:https://business.parkeraz.org/events/details/prescription-drug-take-back-event-13520
END:VEVENT

END:VCALENDAR
