BEGIN:VCALENDAR
VERSION:2.0
PRODID:-//ChamberMaster//Event Calendar 2.0//EN
METHOD:PUBLISH
X-PUBLISHED-TTL:P3D
REFRESH-INTERVAL:P3D
CALSCALE:GREGORIAN
BEGIN:VEVENT
DTSTART:20211029T010000Z
DTEND:20211029T040000Z
X-MICROSOFT-CDO-ALLDAYEVENT:FALSE
SUMMARY:Pumpkin Carving Contest @ The Sand Bar
DESCRIPTION:PUMPKIN CARVING CONTEST \n\n@ \n\nTHE SAND BAR
X-ALT-DESC;FMTTYPE=text/html:<div style="text-align: center\;">PUMPKIN CARVING CONTEST&nbsp\;<br />\n@&nbsp\;<br />\nTHE SAND BAR</div>\n
LOCATION:31404 RIVERSIDE DRIVE (AT THE STOPLIGHT) PARKER\, AZ
UID:e.2234.6675
SEQUENCE:3
DTSTAMP:20260424T130908Z
URL:https://business.parkeraz.org/events/details/pumpkin-carving-contest-the-sand-bar-6675
END:VEVENT

END:VCALENDAR
