BEGIN:VCALENDAR
VERSION:2.0
PRODID:-//ChamberMaster//Event Calendar 2.0//EN
METHOD:PUBLISH
X-PUBLISHED-TTL:P3D
REFRESH-INTERVAL:P3D
CALSCALE:GREGORIAN
BEGIN:VEVENT
DTSTART:20211022T180000Z
DTEND:20211022T190000Z
X-MICROSOFT-CDO-ALLDAYEVENT:FALSE
SUMMARY:Ribbon Cutting at new Boutique and Salon RiverLuptuous
DESCRIPTION:RIBBON CUTTING CEREMONY \n\nAT\n\nRIVERLUPTUOUS BOUTIQUE & SALON
X-ALT-DESC;FMTTYPE=text/html:<h2 style="font-style: italic\; text-align: center\;">RIBBON CUTTING CEREMONY&nbsp\;</h2>\n\n<div style="text-align: center\;"><strong><span style="color:#000000\;"><span style="font-size:18px\;"><span style="font-family:arial\;">AT<br />\nRIVERLUPTUOUS BOUTIQUE &amp\; SALON</span></span></span></strong></div>\n
LOCATION:400 S. CALIFORNIA AVE PARKER\, AZ
UID:e.2234.6639
SEQUENCE:3
DTSTAMP:20260424T130913Z
URL:https://business.parkeraz.org/events/details/ribbon-cutting-at-new-boutique-and-salon-riverluptuous-6639
END:VEVENT

END:VCALENDAR
