BEGIN:VCALENDAR
VERSION:2.0
PRODID:-//ChamberMaster//Event Calendar 2.0//EN
METHOD:PUBLISH
X-PUBLISHED-TTL:P3D
REFRESH-INTERVAL:P3D
CALSCALE:GREGORIAN
BEGIN:VEVENT
DTSTART;VALUE=DATE:20210605
DTEND;VALUE=DATE:20210606
TRANSP:TRANSPARENT
X-MICROSOFT-CDO-ALLDAYEVENT:TRUE
SUMMARY:Run Whatcha Brung Stand Up Jet Ski Regatta
DESCRIPTION:Run Whatcha Brung Stand Up Jet Ski Regatta
X-ALT-DESC;FMTTYPE=text/html:Run Whatcha Brung Stand Up Jet Ski Regatta
LOCATION:Pirate's Den Resort
UID:e.2234.4507
SEQUENCE:3
DTSTAMP:20260424T085649Z
URL:https://business.parkeraz.org/events/details/run-whatcha-brung-stand-up-jet-ski-regatta-4507
END:VEVENT

END:VCALENDAR
