BEGIN:VCALENDAR
VERSION:2.0
PRODID:-//ChamberMaster//Event Calendar 2.0//EN
METHOD:PUBLISH
X-PUBLISHED-TTL:P3D
REFRESH-INTERVAL:P3D
CALSCALE:GREGORIAN
BEGIN:VEVENT
DTSTART:20200229T160000Z
DTEND:20200229T190000Z
X-MICROSOFT-CDO-ALLDAYEVENT:FALSE
SUMMARY:Saguaro Day At Bill Williams Preserve
DESCRIPTION:SAGUARO DAY AT\n\nBILL WILLIAMS WILDLIFE\n\nREFUGE
X-ALT-DESC;FMTTYPE=text/html:<div style="text-align: center\;">SAGUARO DAY AT<br />\nBILL WILLIAMS WILDLIFE<br />\nREFUGE</div>\n
LOCATION:BILL WILLIAMS WILDLIFE REFUGE HWY 95 PARKER\, AZ
UID:e.2234.4051
SEQUENCE:3
DTSTAMP:20260425T000407Z
URL:https://business.parkeraz.org/events/details/saguaro-day-at-bill-williams-preserve-4051
END:VEVENT

END:VCALENDAR
