BEGIN:VCALENDAR
VERSION:2.0
PRODID:-//ChamberMaster//Event Calendar 2.0//EN
METHOD:PUBLISH
X-PUBLISHED-TTL:P3D
REFRESH-INTERVAL:P3D
CALSCALE:GREGORIAN
BEGIN:VEVENT
DTSTART;VALUE=DATE:20211030
DTEND;VALUE=DATE:20211031
TRANSP:TRANSPARENT
X-MICROSOFT-CDO-ALLDAYEVENT:TRUE
SUMMARY:SCSC Racing Parker Enduro
DESCRIPTION:SCSC Racing\n\nSouthern California Speedboat Club\n\nParker Enduro
X-ALT-DESC;FMTTYPE=text/html:SCSC Racing<br />\nSouthern California Speedboat Club<br />\nParker Enduro
LOCATION:La Paz County Park
UID:e.2234.4268
SEQUENCE:3
DTSTAMP:20260424T130109Z
URL:https://business.parkeraz.org/events/details/scsc-racing-parker-enduro-4268
END:VEVENT

END:VCALENDAR
