BEGIN:VCALENDAR
VERSION:2.0
PRODID:-//ChamberMaster//Event Calendar 2.0//EN
METHOD:PUBLISH
X-PUBLISHED-TTL:P3D
REFRESH-INTERVAL:P3D
CALSCALE:GREGORIAN
BEGIN:VEVENT
DTSTART:20200208T150000Z
DTEND:20200208T220000Z
X-MICROSOFT-CDO-ALLDAYEVENT:FALSE
SUMMARY:Soroptimist Yard Sale
DESCRIPTION:SOROPTIMIST\n\nINTERNATIONAL OF \n\nPARKER \n\nYARD SALE
X-ALT-DESC;FMTTYPE=text/html:<div style="text-align: center\;">SOROPTIMIST<br />\nINTERNATIONAL OF&nbsp\;<br />\nPARKER&nbsp\;<br />\nYARD SALE</div>\n
LOCATION:PARKER STRIP ACROSS FROM VFW POST # 10726 PARKER\, AZ
UID:e.2234.3915
SEQUENCE:3
DTSTAMP:20260425T000102Z
URL:https://business.parkeraz.org/events/details/soroptimist-yard-sale-3915
END:VEVENT

END:VCALENDAR
