BEGIN:VCALENDAR
VERSION:2.0
PRODID:-//ChamberMaster//Event Calendar 2.0//EN
METHOD:PUBLISH
X-PUBLISHED-TTL:P3D
REFRESH-INTERVAL:P3D
CALSCALE:GREGORIAN
BEGIN:VEVENT
DTSTART:20210618T230000Z
DTEND:20210619T010000Z
X-MICROSOFT-CDO-ALLDAYEVENT:FALSE
SUMMARY:Spaghetti Dinner Fundraiser
DESCRIPTION:Spaghetti Dinner Fundraiser.  We are raising money for Jani Herrell\, a former employee of the La Paz County Sheriff's Office\, that is battling her second round of cancer.  We would like to assist in alleviating any financial stress at this time.  Jani has been in the medical field serving people on the front lines as a Nurse and a Nurse Practitioner for 20+ years. Please help us as it is her turn to be cared for and supported.
X-ALT-DESC;FMTTYPE=text/html:Spaghetti Dinner Fundraiser.&nbsp\; We are raising money for Jani Herrell\, a former employee of the La Paz County Sheriff&#39\;s Office\, that is battling her second round of cancer.&nbsp\; We would like to assist in alleviating any financial stress at this time.&nbsp\; Jani has been in the medical field serving people on the front lines as a Nurse and a Nurse Practitioner for 20+ years. Please help us as it is her turn to be cared for and supported.&nbsp\;&nbsp\;&nbsp\;&nbsp\;&nbsp\;&nbsp\;
LOCATION:Parker Senior Center Plates will include spaghette\, salad and a roll. Dine in or to go as they will deliver within the Town of Parker. This is a pre-sale event to order call 928-669-6141 Ex 4000 Hollie
UID:e.2234.4623
SEQUENCE:3
DTSTAMP:20260424T085428Z
URL:https://business.parkeraz.org/events/details/spaghetti-dinner-fundraiser-4623
END:VEVENT

END:VCALENDAR
