BEGIN:VCALENDAR
VERSION:2.0
PRODID:-//ChamberMaster//Event Calendar 2.0//EN
METHOD:PUBLISH
X-PUBLISHED-TTL:P3D
REFRESH-INTERVAL:P3D
CALSCALE:GREGORIAN
BEGIN:VEVENT
DTSTART:20191110T150000Z
DTEND:20191110T230000Z
X-MICROSOFT-CDO-ALLDAYEVENT:FALSE
SUMMARY:Spay/Neuter Clinic @ Manataba Park
DESCRIPTION:SPAY/NEUTER \n\nCLINIC AND VACCINATIONS\n\n@ MANATABA PARK
X-ALT-DESC;FMTTYPE=text/html:<div style="text-align: center\;">SPAY/NEUTER&nbsp\;<br />\nCLINIC AND VACCINATIONS<br />\n@ MANATABA PARK</div>\n
LOCATION:MANATABA PARK 2ND AVENUE & MOHAVE RD PARKER\, AZ
UID:e.2234.3680
SEQUENCE:3
DTSTAMP:20260425T035345Z
URL:https://business.parkeraz.org/events/details/spay-neuter-clinic-manataba-park-3680
END:VEVENT

END:VCALENDAR
