BEGIN:VCALENDAR
VERSION:2.0
PRODID:-//ChamberMaster//Event Calendar 2.0//EN
METHOD:PUBLISH
X-PUBLISHED-TTL:P3D
REFRESH-INTERVAL:P3D
CALSCALE:GREGORIAN
BEGIN:VEVENT
DTSTART:20191221T140000Z
DTEND:20191221T210000Z
X-MICROSOFT-CDO-ALLDAYEVENT:FALSE
SUMMARY:Swap Meet at La Paz County Park
DESCRIPTION:SWAP MEET\n\nAT \n\nLA PAZ COUNTY PARK
X-ALT-DESC;FMTTYPE=text/html:<div style="text-align: center\;"><span style="font-size:20px\;">SWAP MEET<br />\nAT&nbsp\;<br />\nLA PAZ COUNTY PARK</span></div>\n
LOCATION:LA PAZ COUNTY PARK PARKER\, AZ
UID:e.2234.3842
SEQUENCE:3
DTSTAMP:20260425T024844Z
URL:https://business.parkeraz.org/events/details/swap-meet-at-la-paz-county-park-3842
END:VEVENT

END:VCALENDAR
