BEGIN:VCALENDAR
VERSION:2.0
PRODID:-//ChamberMaster//Event Calendar 2.0//EN
METHOD:PUBLISH
X-PUBLISHED-TTL:P3D
REFRESH-INTERVAL:P3D
CALSCALE:GREGORIAN
BEGIN:VEVENT
DTSTART:20200226T200000Z
DTEND:20200226T213000Z
X-MICROSOFT-CDO-ALLDAYEVENT:FALSE
SUMMARY:The Gila: River of History/Az Humanities Speaker Series
DESCRIPTION:PARKER PUBLIC \n\nLIBRARY AND AZ\n\nHUMANITIES SPEAKER SERIES\n\nPRESENT\n\n"THE GILA: RIVER OF HISTORY" \n\nWITH GARY MCNAMEE
X-ALT-DESC;FMTTYPE=text/html:<div style="text-align: center\;">PARKER PUBLIC&nbsp\;<br />\nLIBRARY AND AZ<br />\nHUMANITIES SPEAKER SERIES<br />\nPRESENT<br />\n&quot\;THE GILA: RIVER OF HISTORY&quot\;&nbsp\;<br />\nWITH GARY MCNAMEE</div>\n
LOCATION:A\,W\,C\, COMMUNITY CENTER 1109 GERONIMO AVE PARKER\, AZ
UID:e.2234.3701
SEQUENCE:3
DTSTAMP:20260425T000557Z
URL:https://business.parkeraz.org/events/details/the-gila-river-of-history-az-humanities-speaker-series-3701
END:VEVENT

END:VCALENDAR
