BEGIN:VCALENDAR
VERSION:2.0
PRODID:-//ChamberMaster//Event Calendar 2.0//EN
METHOD:PUBLISH
X-PUBLISHED-TTL:P3D
REFRESH-INTERVAL:P3D
CALSCALE:GREGORIAN
BEGIN:VEVENT
DTSTART:20191213T233000Z
DTEND:20191214T030000Z
X-MICROSOFT-CDO-ALLDAYEVENT:FALSE
SUMMARY:Ugly Christmas Sweater Party @ American Legion
DESCRIPTION:UGLY CHRISTMAS \n\nSWEATER PARTY AT\n\nAMERICAN LEGION POST 466
X-ALT-DESC;FMTTYPE=text/html:<div style="text-align: center\;">UGLY CHRISTMAS&nbsp\;<br />\nSWEATER PARTY AT<br />\nAMERICAN LEGION POST 466</div>\n
LOCATION:AMERICAN LEGION # 466 150126 DEL REY DR BIG RIVER\, CA
UID:e.2234.3838
SEQUENCE:3
DTSTAMP:20260425T025117Z
URL:https://business.parkeraz.org/events/details/ugly-christmas-sweater-party-american-legion-3838
END:VEVENT

END:VCALENDAR
