BEGIN:VCALENDAR
VERSION:2.0
PRODID:-//ChamberMaster//Event Calendar 2.0//EN
METHOD:PUBLISH
X-PUBLISHED-TTL:P3D
REFRESH-INTERVAL:P3D
CALSCALE:GREGORIAN
BEGIN:VEVENT
DTSTART;VALUE=DATE:20191109
DTEND;VALUE=DATE:20191110
TRANSP:TRANSPARENT
X-MICROSOFT-CDO-ALLDAYEVENT:TRUE
SUMMARY:Veteran's Day Celebration/Bluewater Casino
DESCRIPTION:VETERAN'S DAY\n\nCELEBRATION AT\n\nBLUEWATER CASINO
X-ALT-DESC;FMTTYPE=text/html:<div style="text-align: center\;">VETERAN&#39\;S DAY<br />\nCELEBRATION AT<br />\nBLUEWATER CASINO</div>\n
LOCATION:BLUEWATER CASINO PARKER\, AZ
UID:e.2234.3356
SEQUENCE:3
DTSTAMP:20260425T035510Z
URL:https://business.parkeraz.org/events/details/veteran-s-day-celebration-bluewater-casino-3356
END:VEVENT

END:VCALENDAR
