BEGIN:VCALENDAR
VERSION:2.0
PRODID:-//ChamberMaster//Event Calendar 2.0//EN
METHOD:PUBLISH
X-PUBLISHED-TTL:P3D
REFRESH-INTERVAL:P3D
CALSCALE:GREGORIAN
BEGIN:VEVENT
DTSTART:20211016T150000Z
DTEND:20211017T000000Z
X-MICROSOFT-CDO-ALLDAYEVENT:FALSE
SUMMARY:Volks Jam by the Parker Dam
DESCRIPTION:2nd annual "Volks Jam by the Parker Dam"\n\nV-Dub only Car Show & Poker Run. Any type of VDub -water\, air cooled & Porsche included. Awards for car show entrants-.prizes for poker run & $$ corn hole tournament $$ - raffle\, vendors\, food\, drinks\, games and fun times. Sponsors welcome. Pre-Registration for discount or registration Friday meet & greet cruise night. Inquire for more info on all the happenings\, sponsor opportunities. \n\nMore information cruising quickly \n\nRick Johnson 760-275-0339\n\nLucas Hand 702-325-9672
X-ALT-DESC;FMTTYPE=text/html:<span style="background-color: rgb(255\, 255\, 255)\; color: rgb(29\, 33\, 41)\; font-family: Helvetica\, Arial\, sans-serif\; font-size: 14px\; white-space: pre-wrap\;">2nd annual &ldquo\;Volks Jam by the Parker Dam&rdquo\;</span><br style="background-color: rgb(255\, 255\, 255)\; color: rgb(29\, 33\, 41)\; font-family: Helvetica\, Arial\, sans-serif\; font-size: 14px\; white-space: pre-wrap\;" />\n<span style="background-color: rgb(255\, 255\, 255)\; color: rgb(29\, 33\, 41)\; font-family: Helvetica\, Arial\, sans-serif\; font-size: 14px\; white-space: pre-wrap\;">V-Dub only Car Show &amp\; Poker Run. </span><span style="background-color: rgb(255\, 255\, 255)\; color: rgb(29\, 33\, 41)\; font-family: Helvetica\, Arial\, sans-serif\; font-size: 14px\; white-space: pre-wrap\;">Any type of VDub -water\, air cooled &amp\; Porsche included. Awards for car show entrants-.prizes for poker run &amp\; $$ corn hole tournament $$ - raffle\, vendors\, food\, drinks\, games and fun times. Sponsors welcome. Pre-Registration for discount or registration Friday meet &amp\; greet cruise night. Inquire for more info on all the happenings\, sponsor opportunities. </span><br style="background-color: rgb(255\, 255\, 255)\; color: rgb(29\, 33\, 41)\; font-family: Helvetica\, Arial\, sans-serif\; font-size: 14px\; white-space: pre-wrap\;" />\n<span style="background-color: rgb(255\, 255\, 255)\; color: rgb(29\, 33\, 41)\; font-family: Helvetica\, Arial\, sans-serif\; font-size: 14px\; white-space: pre-wrap\;">More information cruising quickly </span><br style="background-color: rgb(255\, 255\, 255)\; color: rgb(29\, 33\, 41)\; font-family: Helvetica\, Arial\, sans-serif\; font-size: 14px\; white-space: pre-wrap\;" />\n<span style="background-color: rgb(255\, 255\, 255)\; color: rgb(29\, 33\, 41)\; font-family: Helvetica\, Arial\, sans-serif\; font-size: 14px\; white-space: pre-wrap\;">Rick Johnson 760-275-0339</span><br style="background-color: rgb(255\, 255\, 255)\; color: rgb(29\, 33\, 41)\; font-family: Helvetica\, Arial\, sans-serif\; font-size: 14px\; white-space: pre-wrap\;" />\n<span style="background-color: rgb(255\, 255\, 255)\; color: rgb(29\, 33\, 41)\; font-family: Helvetica\, Arial\, sans-serif\; font-size: 14px\; white-space: pre-wrap\;">Lucas Hand 702-325-9672</span><br />\n<br />\n&nbsp\;
LOCATION:Western Park in Parker\, AZ
UID:e.2234.4271
SEQUENCE:3
DTSTAMP:20260424T130227Z
URL:https://business.parkeraz.org/events/details/volks-jam-by-the-parker-dam-4271
END:VEVENT

END:VCALENDAR
