BEGIN:VCALENDAR
VERSION:2.0
PRODID:-//ChamberMaster//Event Calendar 2.0//EN
METHOD:PUBLISH
X-PUBLISHED-TTL:P3D
REFRESH-INTERVAL:P3D
CALSCALE:GREGORIAN
BEGIN:VEVENT
DTSTART:20211006T220000Z
DTEND:20211006T232500Z
X-MICROSOFT-CDO-ALLDAYEVENT:FALSE
SUMMARY:Wednesday Funday @ The Parker Library!
DESCRIPTION:WEDNESDAY FUNDAY \n\nAT THE \n\nPARKER PUBLIC LIBRARY
X-ALT-DESC;FMTTYPE=text/html:<div style="text-align: center\;">WEDNESDAY FUNDAY&nbsp\;<br />\nAT THE&nbsp\;<br />\nPARKER PUBLIC LIBRARY</div>\n
LOCATION:PARKER PUBLIC LIBRARY 1001 NAVAJO AVE PARKER\, AZ
UID:e.2234.6588
SEQUENCE:3
DTSTAMP:20260424T130457Z
URL:https://business.parkeraz.org/events/details/wednesday-funday-the-parker-library-10-06-2021-6588
END:VEVENT

END:VCALENDAR
